BEGIN:VCALENDAR
VERSION:2.0
PRODID:-//AbbiategrassoDaVivere//Eventi//IT
BEGIN:VEVENT
UID:69eb8301a9f83
DTSTAMP:20260424T164937
DTSTART:20260509T100000
DTEND:20260509T110000
SUMMARY:FIORIRE IN ACQUA
DESCRIPTION:MOSTRA FOTOGRAFICA 
LOCATION:Castello Visconteo 
URL:https://www.abbiategrassodavivere.it/it/evento/fiorire-in-acqua
END:VEVENT
END:VCALENDAR
