BEGIN:VCALENDAR
VERSION:2.0
PRODID:-//AbbiategrassoDaVivere//Eventi//IT
BEGIN:VEVENT
UID:69e61d437639a
DTSTAMP:20260420T143411
DTSTART:20260425T153000
DTEND:20260425T163000
SUMMARY:Il ruolo dei cattolici nella Resistenza
DESCRIPTION:MOSTRA FOTOGRAFICA


LOCATION:Castello Visconteo 
URL:https://www.abbiategrassodavivere.it/it/evento/il-ruolo-dei-cattolici-nella-resistenza
END:VEVENT
END:VCALENDAR
