BEGIN:VCALENDAR
VERSION:2.0
PRODID:-//AbbiategrassoDaVivere//Eventi//IT
BEGIN:VEVENT
UID:69eb8307c8736
DTSTAMP:20260424T164943
DTSTART:20260507T210000
DTEND:20260507T220000
SUMMARY:IN VINO VERBA
DESCRIPTION:Incontro con l\'autore Maurizio Torchio
LOCATION:Abbiategrasso
URL:https://www.abbiategrassodavivere.it/it/evento/in-vino-verba-1
END:VEVENT
END:VCALENDAR
