BEGIN:VCALENDAR
VERSION:2.0
PRODID:-//AbbiategrassoDaVivere//Eventi//IT
BEGIN:VEVENT
UID:69eb69bec0cc1
DTSTAMP:20260424T150150
DTSTART:20260506T210000
DTEND:20260506T220000
SUMMARY:IN VINO VERBA
DESCRIPTION:Incontro con l\'autrice Giulia Lombezzi
LOCATION:Abbiategrasso
URL:https://www.abbiategrassodavivere.it/it/evento/in-vino-verba
END:VEVENT
END:VCALENDAR
