BEGIN:VCALENDAR
VERSION:2.0
PRODID:-//AbbiategrassoDaVivere//Eventi//IT
BEGIN:VEVENT
UID:69e61d3a6d609
DTSTAMP:20260420T143402
DTSTART:20260424T210000
DTEND:20260424T220000
SUMMARY:\"Scarpe rotte: una storia di Amore e Resistenza\"
DESCRIPTION:SPETTACOLO TEATRALE
LOCATION:Abbiategrasso
URL:https://www.abbiategrassodavivere.it/it/evento/scarpe-rotte-una-storia-di-amore-e-resistenza
END:VEVENT
END:VCALENDAR
