BEGIN:VCALENDAR
VERSION:2.0
PRODID:-//AbbiategrassoDaVivere//Eventi//IT
BEGIN:VEVENT
UID:69e5ea6aae249
DTSTAMP:20260420T105714
DTSTART:20260516T100000
DTEND:20260516T110000
SUMMARY:UMANE CONNESSIONI 2026 - FESTA DELLE CULTURE
DESCRIPTION:Laboratorio di integrazione per costruire un nuovo modello di convivenza
LOCATION:Castello Visconteo 
URL:https://www.abbiategrassodavivere.it/it/evento/umane-connessioni-2026-festa-delle-culture
END:VEVENT
END:VCALENDAR
