BEGIN:VCALENDAR
VERSION:2.0
PRODID:-//AbbiategrassoDaVivere//Eventi//IT
BEGIN:VEVENT
UID:69eb8e6d13237
DTSTAMP:20260424T173821
DTSTART:20250308T190000
DTEND:20250308T200000
SUMMARY:VENTI FORTI
DESCRIPTION:Brezza dolce, bora sferzante, Energia direzioni mutevoli…20 scatti d\'autore, donne protagoniste del loro tempo.
LOCATION:Abbiategrasso
URL:https://www.abbiategrassodavivere.it/it/evento/venti-forti
END:VEVENT
END:VCALENDAR
